
      
      
      
BEGIN:VCALENDAR
VERSION:2.0
PRODID:-//Nyíregyházi Sportcentrum - ECPv4.9.1.1//NONSGML v1.0//EN
CALSCALE:GREGORIAN
METHOD:PUBLISH
X-WR-CALNAME:Nyíregyházi Sportcentrum
X-ORIGINAL-URL:https://nyiregyhazisc.hu
X-WR-CALDESC:Events for Nyíregyházi Sportcentrum
BEGIN:VEVENT
DTSTART;TZID=UTC+1:20220116T150000
DTEND;TZID=UTC+1:20220116T180000
DTSTAMP:20260423T144156
CREATED:20220103T130933Z
LAST-MODIFIED:20220103T130933Z
UID:14048-1642345200-1642356000@nyiregyhazisc.hu
SUMMARY:NBII női röplabda mérkőzés
DESCRIPTION:NBII női röplabda mérkőzés \nHelyszín: Budapest \nIdőpont: 2022. január 16. \n15.00 Kistext – Nyíregyházi Sportcentrum \n
URL:https://nyiregyhazisc.hu/esemeny/nbii-noi-roplabda-merkozes/
END:VEVENT
END:VCALENDAR