
      
      
      
BEGIN:VCALENDAR
VERSION:2.0
PRODID:-//Nyíregyházi Sportcentrum - ECPv4.9.1.1//NONSGML v1.0//EN
CALSCALE:GREGORIAN
METHOD:PUBLISH
X-WR-CALNAME:Nyíregyházi Sportcentrum
X-ORIGINAL-URL:https://nyiregyhazisc.hu
X-WR-CALDESC:Events for Nyíregyházi Sportcentrum
BEGIN:VEVENT
DTSTART;VALUE=DATE:20230802
DTEND;VALUE=DATE:20230806
DTSTAMP:20260422T065041
CREATED:20230721T085214Z
LAST-MODIFIED:20230721T085214Z
UID:19816-1690934400-1691279999@nyiregyhazisc.hu
SUMMARY:MVM Ifjúsági Úszó Országos Bajnokság - Debrecen
DESCRIPTION:
URL:https://nyiregyhazisc.hu/esemeny/mvm-ifjusagi-uszo-orszagos-bajnoksag-debrecen/
CATEGORIES:Sportesemény
END:VEVENT
END:VCALENDAR