
      
      
      
BEGIN:VCALENDAR
VERSION:2.0
PRODID:-//Nyíregyházi Sportcentrum - ECPv4.9.1.1//NONSGML v1.0//EN
CALSCALE:GREGORIAN
METHOD:PUBLISH
X-WR-CALNAME:Nyíregyházi Sportcentrum
X-ORIGINAL-URL:https://nyiregyhazisc.hu
X-WR-CALDESC:Events for Nyíregyházi Sportcentrum
BEGIN:VEVENT
DTSTART;TZID=UTC+1:20221001T140000
DTEND;TZID=UTC+1:20221001T170000
DTSTAMP:20260422T220146
CREATED:20220930T123550Z
LAST-MODIFIED:20220930T123550Z
UID:16471-1664632800-1664643600@nyiregyhazisc.hu
SUMMARY:MTK Budapest Kék - Nyíregyházi Sportcentrum Szalayné Sebők Éva U17 OB - Budapest - női röplabda mérkőzés
DESCRIPTION:
URL:https://nyiregyhazisc.hu/esemeny/mtk-budapest-kek-nyiregyhazi-sportcentrum-szalayne-sebok-eva-u17-ob-budapest-noi-roplabda-merkozes/
CATEGORIES:Sportesemény
END:VEVENT
END:VCALENDAR