
      
      
      
BEGIN:VCALENDAR
VERSION:2.0
PRODID:-//Nyíregyházi Sportcentrum - ECPv4.9.1.1//NONSGML v1.0//EN
CALSCALE:GREGORIAN
METHOD:PUBLISH
X-WR-CALNAME:Nyíregyházi Sportcentrum
X-ORIGINAL-URL:https://nyiregyhazisc.hu
X-WR-CALDESC:Events for Nyíregyházi Sportcentrum
BEGIN:VEVENT
DTSTART;TZID=UTC+1:20191207T080000
DTEND;TZID=UTC+1:20191207T170000
DTSTAMP:20260424T041152
CREATED:20191203T135838Z
LAST-MODIFIED:20191203T135930Z
UID:9116-1575705600-1575738000@nyiregyhazisc.hu
SUMMARY:Mikulásfutás
DESCRIPTION:Ha december\, akkor Mikulás Futás Nyíregyházán.\nDecember 7-én\, szombaton ismét várják a szervezők a kicsiket és nagyokat\, családokat a Városi Stadionba egy közös kis mozgásra. Tavaly több\, mint kétezren vettek részt a rendezvényen és bíznak abban\, hogy most is sokan eljönnek.\nA program 10 órakor kezdődik. A megnyitót követően az első kört a legkisebbek futhatják le\, majd a nagyobbak és a családok is teljesíthetik a kiírt távot. Ezen kívül lesz Mikulás Expressz és cukorágyú is és természetesen mindenki tombolát kap\, mellyel értékes ajándékokat lehet nyerni. \n
URL:https://nyiregyhazisc.hu/esemeny/mikulasfutas/
ATTACH;FMTTYPE=image/jpeg:https://nyiregyhazisc.hu/wp-content/uploads/2019/12/mikulásfutás.jpg
END:VEVENT
END:VCALENDAR