
      
      
      
BEGIN:VCALENDAR
VERSION:2.0
PRODID:-//Nyíregyházi Sportcentrum - ECPv4.9.1.1//NONSGML v1.0//EN
CALSCALE:GREGORIAN
METHOD:PUBLISH
X-WR-CALNAME:Nyíregyházi Sportcentrum
X-ORIGINAL-URL:https://nyiregyhazisc.hu
X-WR-CALDESC:Events for Nyíregyházi Sportcentrum
BEGIN:VEVENT
DTSTART;TZID=UTC+1:20230925T190000
DTEND;TZID=UTC+1:20230925T210000
DTSTAMP:20260422T040701
CREATED:20230907T085659Z
LAST-MODIFIED:20230907T085659Z
UID:20050-1695668400-1695675600@nyiregyhazisc.hu
SUMMARY:Magyar Futsal Akadémia - A'Stúdió Futsal Nyíregyháza NBI férfi futsal mérkőzés - Budapest
DESCRIPTION: \n
URL:https://nyiregyhazisc.hu/esemeny/magyar-futsal-akademia-astudio-futsal-nyiregyhaza-nbi-ferfi-futsal-merkozes-budapest/
CATEGORIES:Sportesemény
ATTACH;FMTTYPE=image/jpeg:https://nyiregyhazisc.hu/wp-content/uploads/2023/09/a-studió-logó.jpg
END:VEVENT
END:VCALENDAR