
      
      
      
BEGIN:VCALENDAR
VERSION:2.0
PRODID:-//Nyíregyházi Sportcentrum - ECPv4.9.1.1//NONSGML v1.0//EN
CALSCALE:GREGORIAN
METHOD:PUBLISH
X-WR-CALNAME:Nyíregyházi Sportcentrum
X-ORIGINAL-URL:https://nyiregyhazisc.hu
X-WR-CALDESC:Events for Nyíregyházi Sportcentrum
BEGIN:VEVENT
DTSTART;TZID=UTC+1:20230707T080000
DTEND;TZID=UTC+1:20230708T170000
DTSTAMP:20260422T082600
CREATED:20230705T080729Z
LAST-MODIFIED:20230705T091917Z
UID:19682-1688716800-1688835600@nyiregyhazisc.hu
SUMMARY:Magyar Atlétikai Bajnokság - Budapest
DESCRIPTION:
URL:https://nyiregyhazisc.hu/esemeny/magyar-atletikai-bajnoksag-budapest/
CATEGORIES:Sportesemény
END:VEVENT
END:VCALENDAR