
      
      
      
BEGIN:VCALENDAR
VERSION:2.0
PRODID:-//Nyíregyházi Sportcentrum - ECPv4.9.1.1//NONSGML v1.0//EN
CALSCALE:GREGORIAN
METHOD:PUBLISH
X-WR-CALNAME:Nyíregyházi Sportcentrum
X-ORIGINAL-URL:https://nyiregyhazisc.hu
X-WR-CALDESC:Events for Nyíregyházi Sportcentrum
BEGIN:VEVENT
DTSTART;TZID=UTC+1:20221005T173000
DTEND;TZID=UTC+1:20221005T190000
DTSTAMP:20260422T220232
CREATED:20220922T112048Z
LAST-MODIFIED:20220922T112048Z
UID:16419-1664991000-1664996400@nyiregyhazisc.hu
SUMMARY:KK Hajdúszoboszló - Nyíregyházi Sportcentrum LU 19 - Derecske - lány kézilabda mérkőzés
DESCRIPTION:
URL:https://nyiregyhazisc.hu/esemeny/kk-hajduszoboszlo-nyiregyhazi-sportcentrum-lu-19-derecske-lany-kezilabda-merkozes/
CATEGORIES:Sportesemény
END:VEVENT
END:VCALENDAR