
      
      
      
BEGIN:VCALENDAR
VERSION:2.0
PRODID:-//Nyíregyházi Sportcentrum - ECPv4.9.1.1//NONSGML v1.0//EN
CALSCALE:GREGORIAN
METHOD:PUBLISH
X-WR-CALNAME:Nyíregyházi Sportcentrum
X-ORIGINAL-URL:https://nyiregyhazisc.hu
X-WR-CALDESC:Events for Nyíregyházi Sportcentrum
BEGIN:VEVENT
DTSTART;VALUE=DATE:20230316
DTEND;VALUE=DATE:20230320
DTSTAMP:20260422T144522
CREATED:20230302T134039Z
LAST-MODIFIED:20230302T134039Z
UID:18469-1678924800-1679270399@nyiregyhazisc.hu
SUMMARY:Kerekesszékes Vívó Világkupa 2023 - Olaszország\, Pisa
DESCRIPTION:
URL:https://nyiregyhazisc.hu/esemeny/kerekesszekes-vivo-vilagkupa-2023-olaszorszag-pisa/
CATEGORIES:Sportesemény
END:VEVENT
END:VCALENDAR