
      
      
      
BEGIN:VCALENDAR
VERSION:2.0
PRODID:-//Nyíregyházi Sportcentrum - ECPv4.9.1.1//NONSGML v1.0//EN
CALSCALE:GREGORIAN
METHOD:PUBLISH
X-WR-CALNAME:Nyíregyházi Sportcentrum
X-ORIGINAL-URL:https://nyiregyhazisc.hu
X-WR-CALDESC:Events for Nyíregyházi Sportcentrum
BEGIN:VEVENT
DTSTART;TZID=UTC+1:20231007T100000
DTEND;TZID=UTC+1:20231007T140000
DTSTAMP:20260422T040041
CREATED:20231003T081321Z
LAST-MODIFIED:20231003T081321Z
UID:20466-1696672800-1696687200@nyiregyhazisc.hu
SUMMARY:Kenguru Kosárlabda Kupa - Nyíregyháza
DESCRIPTION:Mérkőzések: \n10.00 NYÍKSE Tűzgolyó/A – Nyíregyházi Sportcentrum/A \n12.30 Nyíregyházi Sportcentrum/A – Cívis KK Tigrisek \n
URL:https://nyiregyhazisc.hu/esemeny/kenguru-kosarlabda-kupa-nyiregyhaza-2/
CATEGORIES:Sportesemény
END:VEVENT
END:VCALENDAR