
      
      
      
BEGIN:VCALENDAR
VERSION:2.0
PRODID:-//Nyíregyházi Sportcentrum - ECPv4.9.1.1//NONSGML v1.0//EN
CALSCALE:GREGORIAN
METHOD:PUBLISH
X-WR-CALNAME:Nyíregyházi Sportcentrum
X-ORIGINAL-URL:https://nyiregyhazisc.hu
X-WR-CALDESC:Events for Nyíregyházi Sportcentrum
BEGIN:VEVENT
DTSTART;TZID=UTC+1:20231111T153000
DTEND;TZID=UTC+1:20231111T180000
DTSTAMP:20260422T021028
CREATED:20231107T084534Z
LAST-MODIFIED:20231107T084534Z
UID:20777-1699716600-1699725600@nyiregyhazisc.hu
SUMMARY:Kenguru kosárlabda kupa - Debrecen
DESCRIPTION:Mérkőzések: \n15.30 óra Cívis Kk Fehértigrisek – Nyíregyházi Sportcentrum/A \n17.00 óra Nyíregyházi Sportcentrum/A – Cívis Efrém Kenguruk \n
URL:https://nyiregyhazisc.hu/esemeny/kenguru-kosarlabda-kupa-debrecen/
CATEGORIES:Sportesemény
END:VEVENT
END:VCALENDAR