
      
      
      
BEGIN:VCALENDAR
VERSION:2.0
PRODID:-//Nyíregyházi Sportcentrum - ECPv4.9.1.1//NONSGML v1.0//EN
CALSCALE:GREGORIAN
METHOD:PUBLISH
X-WR-CALNAME:Nyíregyházi Sportcentrum
X-ORIGINAL-URL:https://nyiregyhazisc.hu
X-WR-CALDESC:Events for Nyíregyházi Sportcentrum
BEGIN:VEVENT
DTSTART;TZID=UTC+1:20190924T090000
DTEND;TZID=UTC+1:20190924T160000
DTSTAMP:20260424T085320
CREATED:20190829T074716Z
LAST-MODIFIED:20190904T123515Z
UID:8636-1569315600-1569340800@nyiregyhazisc.hu
SUMMARY:Kelet-Magyarország Állásbörze
DESCRIPTION:Szakember hiány\, munkaerő probléma? – Találd meg új munkatársaidat velünk! \nCéged bővítését tervezed? Nehezen találod a megfelelően képzett szakembert? Új munkatársat keresel? Szakemberek képzésével\, átképzésével foglalkozol? Akkor Neked is ott a helyed a Kelet Állásbörzén! Szeptember 24-én a Continental Arénában az előző évben megszokott munkát keresők sokaságával várjuk mindazon cégeket\, akiknek munkaerőre\, képzett szakemberre van szüksége. Ne habozz\, találd meg velünk a legmegfelelőbb munkatársakat minden pozícióra\, egy nap alatt! Kiállító helyek már elérhetők\, érdeklődni a rendezveny@inform.hu e-mail címen lehet. További részletekért kattints az alábbi linkre: \nÁllásbörze a Kelettel \n \nÁlláskeresők\, új szakmai fejlődési lehetőségen\, karrierváltáson gondolkodók\, ti is mentsétek a dátumot\, hogy biztosan megadjátok magatoknak az esélyt az álomállás megtalálására. \n
URL:https://nyiregyhazisc.hu/esemeny/kelet-magyarorszag-allasborze/
CATEGORIES:Egyéb
ATTACH;FMTTYPE=image/jpeg:https://nyiregyhazisc.hu/wp-content/uploads/2019/08/kelet-állásbörze-e1567600202419.jpg
END:VEVENT
END:VCALENDAR