
      
      
      
BEGIN:VCALENDAR
VERSION:2.0
PRODID:-//Nyíregyházi Sportcentrum - ECPv4.9.1.1//NONSGML v1.0//EN
CALSCALE:GREGORIAN
METHOD:PUBLISH
X-WR-CALNAME:Nyíregyházi Sportcentrum
X-ORIGINAL-URL:https://nyiregyhazisc.hu
X-WR-CALDESC:Events for Nyíregyházi Sportcentrum
BEGIN:VEVENT
DTSTART;VALUE=DATE:20231007
DTEND;VALUE=DATE:20231008
DTSTAMP:20260422T035916
CREATED:20230911T130547Z
LAST-MODIFIED:20230911T130547Z
UID:20159-1696636800-1696723199@nyiregyhazisc.hu
SUMMARY:Junior Magyar Kard Kupa - Gödöllő
DESCRIPTION:
URL:https://nyiregyhazisc.hu/esemeny/junior-magyar-kard-kupa-godollo/
CATEGORIES:Sportesemény
END:VEVENT
END:VCALENDAR