
      
      
      
BEGIN:VCALENDAR
VERSION:2.0
PRODID:-//Nyíregyházi Sportcentrum - ECPv4.9.1.1//NONSGML v1.0//EN
CALSCALE:GREGORIAN
METHOD:PUBLISH
X-WR-CALNAME:Nyíregyházi Sportcentrum
X-ORIGINAL-URL:https://nyiregyhazisc.hu
X-WR-CALDESC:Events for Nyíregyházi Sportcentrum
BEGIN:VEVENT
DTSTART;VALUE=DATE:20230923
DTEND;VALUE=DATE:20230924
DTSTAMP:20260422T053045
CREATED:20230911T130248Z
LAST-MODIFIED:20230911T130248Z
UID:20157-1695427200-1695513599@nyiregyhazisc.hu
SUMMARY:Junior Magyar Kard Kupa - Budapest
DESCRIPTION:
URL:https://nyiregyhazisc.hu/esemeny/junior-magyar-kard-kupa-budapest/
CATEGORIES:Sportesemény
END:VEVENT
END:VCALENDAR