
      
      
      
BEGIN:VCALENDAR
VERSION:2.0
PRODID:-//Nyíregyházi Sportcentrum - ECPv4.9.1.1//NONSGML v1.0//EN
CALSCALE:GREGORIAN
METHOD:PUBLISH
X-WR-CALNAME:Nyíregyházi Sportcentrum
X-ORIGINAL-URL:https://nyiregyhazisc.hu
X-WR-CALDESC:Events for Nyíregyházi Sportcentrum
BEGIN:VEVENT
DTSTART;VALUE=DATE:20220212
DTEND;VALUE=DATE:20220214
DTSTAMP:20260423T092521
CREATED:20220210T124532Z
LAST-MODIFIED:20220210T124532Z
UID:14469-1644624000-1644796799@nyiregyhazisc.hu
SUMMARY:Junior Kard Országos Bajnokság
DESCRIPTION:Junior Kard Országos Bajnokság \n
URL:https://nyiregyhazisc.hu/esemeny/junior-kard-orszagos-bajnoksag/
END:VEVENT
END:VCALENDAR