
      
      
      
BEGIN:VCALENDAR
VERSION:2.0
PRODID:-//Nyíregyházi Sportcentrum - ECPv4.9.1.1//NONSGML v1.0//EN
CALSCALE:GREGORIAN
METHOD:PUBLISH
X-WR-CALNAME:Nyíregyházi Sportcentrum
X-ORIGINAL-URL:https://nyiregyhazisc.hu
X-WR-CALDESC:Events for Nyíregyházi Sportcentrum
BEGIN:VEVENT
DTSTART;VALUE=DATE:20230928
DTEND;VALUE=DATE:20231002
DTSTAMP:20260422T053334
CREATED:20230918T103450Z
LAST-MODIFIED:20230918T103450Z
UID:20262-1695859200-1696204799@nyiregyhazisc.hu
SUMMARY:Junior és ifjúsági ökölvívó magyar bajnokság - Continental Aréna
DESCRIPTION:Ju \n
URL:https://nyiregyhazisc.hu/esemeny/junior-es-ifjusagi-okolvivo-magyar-bajnoksag-continental-arena/
ATTACH;FMTTYPE=image/jpeg:https://nyiregyhazisc.hu/wp-content/uploads/2023/09/box.jpg
END:VEVENT
END:VCALENDAR