
      
      
      
BEGIN:VCALENDAR
VERSION:2.0
PRODID:-//Nyíregyházi Sportcentrum - ECPv4.9.1.1//NONSGML v1.0//EN
CALSCALE:GREGORIAN
METHOD:PUBLISH
X-WR-CALNAME:Nyíregyházi Sportcentrum
X-ORIGINAL-URL:https://nyiregyhazisc.hu
X-WR-CALDESC:Events for Nyíregyházi Sportcentrum
BEGIN:VEVENT
DTSTART;TZID=UTC+1:20200115T080000
DTEND;TZID=UTC+1:20200115T170000
DTSTAMP:20260424T024238
CREATED:20200115T132720Z
LAST-MODIFIED:20200115T141300Z
UID:9437-1579075200-1579107600@nyiregyhazisc.hu
SUMMARY:Iskolák versenye a Városi Jégpályán
DESCRIPTION:A Nyíregyházi Sportcentrum ügyességi csapatversenyt szervez nyíregyházi felső tagozatos általános iskolások részére \nA rendezvény ideje:  2020. február 13.\, csütörtök  10.00 óra \nJelentkezzetek Ti is iskolátokkal! \nJelentkezési határidő: 2020. február 10. 12 óra\nJelentkezés: info@nyiregyhazisc.hu \n
URL:https://nyiregyhazisc.hu/esemeny/iskolak-versenye-a-varosi-jegpalyan/
LOCATION:Városi Jégpálya\, István u. 7.\, Nyíregyháza
CATEGORIES:Sportesemény
ATTACH;FMTTYPE=image/jpeg:https://nyiregyhazisc.hu/wp-content/uploads/2020/01/jégpály-....jpg
END:VEVENT
END:VCALENDAR