
      
      
      
BEGIN:VCALENDAR
VERSION:2.0
PRODID:-//Nyíregyházi Sportcentrum - ECPv4.9.1.1//NONSGML v1.0//EN
CALSCALE:GREGORIAN
METHOD:PUBLISH
X-WR-CALNAME:Nyíregyházi Sportcentrum
X-ORIGINAL-URL:https://nyiregyhazisc.hu
X-WR-CALDESC:Events for Nyíregyházi Sportcentrum
BEGIN:VEVENT
DTSTART;VALUE=DATE:20220601
DTEND;VALUE=DATE:20220605
DTSTAMP:20260423T075257
CREATED:20220209T123901Z
LAST-MODIFIED:20220209T123901Z
UID:14458-1654041600-1654387199@nyiregyhazisc.hu
SUMMARY:Ifi Országos Bajnokság  Úszóverseny
DESCRIPTION:Ifi Országos Bajnokság Úszóverseny \nHelyszín: Kaposvár \nIdőpont: 2022. június 1-4. \n
URL:https://nyiregyhazisc.hu/esemeny/ifi-orszagos-bajnoksag-uszoverseny/
END:VEVENT
END:VCALENDAR