
      
      
      
BEGIN:VCALENDAR
VERSION:2.0
PRODID:-//Nyíregyházi Sportcentrum - ECPv4.9.1.1//NONSGML v1.0//EN
CALSCALE:GREGORIAN
METHOD:PUBLISH
X-WR-CALNAME:Nyíregyházi Sportcentrum
X-ORIGINAL-URL:https://nyiregyhazisc.hu
X-WR-CALDESC:Events for Nyíregyházi Sportcentrum
BEGIN:VEVENT
DTSTART;TZID=UTC+1:20231126T170000
DTEND;TZID=UTC+1:20231126T190000
DTSTAMP:20260422T021528
CREATED:20231121T093002Z
LAST-MODIFIED:20231121T093002Z
UID:20895-1701018000-1701025200@nyiregyhazisc.hu
SUMMARY:Hübner Nyíregyháza - Vasas Akadémi férfi NBI B/Piros csoport kosárlabda bajnoki mérkőzés - Continental Aréna
DESCRIPTION:
URL:https://nyiregyhazisc.hu/esemeny/hubner-nyiregyhaza-vasas-akademi-ferfi-nbi-b-piros-csoport-kosarlabda-bajnoki-merkozes-continental-arena/
CATEGORIES:Sportesemény
END:VEVENT
END:VCALENDAR