
      
      
      
BEGIN:VCALENDAR
VERSION:2.0
PRODID:-//Nyíregyházi Sportcentrum - ECPv4.9.1.1//NONSGML v1.0//EN
CALSCALE:GREGORIAN
METHOD:PUBLISH
X-WR-CALNAME:Nyíregyházi Sportcentrum
X-ORIGINAL-URL:https://nyiregyhazisc.hu
X-WR-CALDESC:Events for Nyíregyházi Sportcentrum
BEGIN:VEVENT
DTSTART;TZID=UTC+1:20231008T170000
DTEND;TZID=UTC+1:20231008T190000
DTSTAMP:20260422T053415
CREATED:20230907T073548Z
LAST-MODIFIED:20230907T073548Z
UID:20036-1696784400-1696791600@nyiregyhazisc.hu
SUMMARY:Hübner Nyíregyháza BS - Salgótarjáni KSE férfi bajnoki kosárlabda mérkőzés - Continental Aréna
DESCRIPTION: \n
URL:https://nyiregyhazisc.hu/esemeny/hubner-nyiregyhaza-bs-salgotarjani-kse-ferfi-bajnoki-kosarlabda-merkozes-continental-arena/
CATEGORIES:Sportesemény
ATTACH;FMTTYPE=image/jpeg:https://nyiregyhazisc.hu/wp-content/uploads/2023/09/hübner-logó.jpg
END:VEVENT
END:VCALENDAR