
      
      
      
BEGIN:VCALENDAR
VERSION:2.0
PRODID:-//Nyíregyházi Sportcentrum - ECPv4.9.1.1//NONSGML v1.0//EN
CALSCALE:GREGORIAN
METHOD:PUBLISH
X-WR-CALNAME:Nyíregyházi Sportcentrum
X-ORIGINAL-URL:https://nyiregyhazisc.hu
X-WR-CALDESC:Events for Nyíregyházi Sportcentrum
BEGIN:VEVENT
DTSTART;TZID=UTC+1:20211227T190000
DTEND;TZID=UTC+1:20211227T200000
DTSTAMP:20260423T124247
CREATED:20211201T083027Z
LAST-MODIFIED:20211201T083027Z
UID:13915-1640631600-1640635200@nyiregyhazisc.hu
SUMMARY:Hübner Nyíregyháza BS - DEAC NBI/A kosárlabda bajnoki mérkőzés
DESCRIPTION:
URL:https://nyiregyhazisc.hu/esemeny/hubner-nyiregyhaza-bs-deac-nbi-a-kosarlabda-bajnoki-merkozes/
END:VEVENT
END:VCALENDAR