
      
      
      
BEGIN:VCALENDAR
VERSION:2.0
PRODID:-//Nyíregyházi Sportcentrum - ECPv4.9.1.1//NONSGML v1.0//EN
CALSCALE:GREGORIAN
METHOD:PUBLISH
X-WR-CALNAME:Nyíregyházi Sportcentrum
X-ORIGINAL-URL:https://nyiregyhazisc.hu
X-WR-CALDESC:Events for Nyíregyházi Sportcentrum
BEGIN:VEVENT
DTSTART;VALUE=DATE:20220917
DTEND;VALUE=DATE:20220918
DTSTAMP:20260422T233340
CREATED:20220915T115348Z
LAST-MODIFIED:20220915T115348Z
UID:16306-1663372800-1663459199@nyiregyhazisc.hu
SUMMARY:Horváth Gábor Úszó  Emlékverseny Nyírbátor
DESCRIPTION:
URL:https://nyiregyhazisc.hu/esemeny/horvath-gabor-uszo-emlekverseny-nyirbator/
CATEGORIES:Sportesemény
END:VEVENT
END:VCALENDAR