
      
      
      
BEGIN:VCALENDAR
VERSION:2.0
PRODID:-//Nyíregyházi Sportcentrum - ECPv4.9.1.1//NONSGML v1.0//EN
CALSCALE:GREGORIAN
METHOD:PUBLISH
X-WR-CALNAME:Nyíregyházi Sportcentrum
X-ORIGINAL-URL:https://nyiregyhazisc.hu
X-WR-CALDESC:Events for Nyíregyházi Sportcentrum
BEGIN:VEVENT
DTSTART;VALUE=DATE:20220430
DTEND;VALUE=DATE:20220501
DTSTAMP:20260423T062233
CREATED:20220429T113200Z
LAST-MODIFIED:20220429T113200Z
UID:15196-1651276800-1651363199@nyiregyhazisc.hu
SUMMARY:Hajós Alfréd Kupa Úszóverseny
DESCRIPTION:Hajós Alfréd Kupa Úszóverseny – Debrecen \n
URL:https://nyiregyhazisc.hu/esemeny/hajos-alfred-kupa-uszoverseny/
CATEGORIES:Sportesemény
END:VEVENT
END:VCALENDAR