
      
      
      
BEGIN:VCALENDAR
VERSION:2.0
PRODID:-//Nyíregyházi Sportcentrum - ECPv4.9.1.1//NONSGML v1.0//EN
CALSCALE:GREGORIAN
METHOD:PUBLISH
X-WR-CALNAME:Nyíregyházi Sportcentrum
X-ORIGINAL-URL:https://nyiregyhazisc.hu
X-WR-CALDESC:Events for Nyíregyházi Sportcentrum
BEGIN:VEVENT
DTSTART;TZID=UTC+1:20231012T180000
DTEND;TZID=UTC+1:20231012T200000
DTSTAMP:20260422T053630
CREATED:20231010T075750Z
LAST-MODIFIED:20231010T075750Z
UID:20587-1697133600-1697140800@nyiregyhazisc.hu
SUMMARY:Hajdúböszörményi TE - Nyíregyházi Sportcentrum U19 leány kézilabda bajnoki mérkőzés  - Hajdúböszörmény
DESCRIPTION:
URL:https://nyiregyhazisc.hu/esemeny/hajduboszormenyi-te-nyiregyhazi-sportcentrum-u19-leany-kezilabda-bajnoki-merkozes-hajduboszormeny/
CATEGORIES:Sportesemény
END:VEVENT
END:VCALENDAR