
      
      
      
BEGIN:VCALENDAR
VERSION:2.0
PRODID:-//Nyíregyházi Sportcentrum - ECPv4.9.1.1//NONSGML v1.0//EN
CALSCALE:GREGORIAN
METHOD:PUBLISH
X-WR-CALNAME:Nyíregyházi Sportcentrum
X-ORIGINAL-URL:https://nyiregyhazisc.hu
X-WR-CALDESC:Events for Nyíregyházi Sportcentrum
BEGIN:VEVENT
DTSTART;TZID=UTC+1:20220324T170000
DTEND;TZID=UTC+1:20220324T190000
DTSTAMP:20260423T110920
CREATED:20220222T103631Z
LAST-MODIFIED:20220222T103631Z
UID:14616-1648141200-1648148400@nyiregyhazisc.hu
SUMMARY:Gyömrői KA - Nyíregyházi Sportcentrum fiú serdülő kézilabda mérkőzés
DESCRIPTION:Gyömrői KA – Nyíregyházi Sportcentrum fiú serdülő kézilabda mérkőzés \nHelyszín: Gyömrő \nIdőpont: 2022. március 24. 17.15. \n
URL:https://nyiregyhazisc.hu/esemeny/gyomroi-ka-nyiregyhazi-sportcentrum-fiu-serdulo-kezilabda-merkozes/
CATEGORIES:Sportesemény
END:VEVENT
END:VCALENDAR