
      
      
      
BEGIN:VCALENDAR
VERSION:2.0
PRODID:-//Nyíregyházi Sportcentrum - ECPv4.9.1.1//NONSGML v1.0//EN
CALSCALE:GREGORIAN
METHOD:PUBLISH
X-WR-CALNAME:Nyíregyházi Sportcentrum
X-ORIGINAL-URL:https://nyiregyhazisc.hu
X-WR-CALDESC:Events for Nyíregyházi Sportcentrum
BEGIN:VEVENT
DTSTART;TZID=UTC+1:20231119T103000
DTEND;TZID=UTC+1:20231119T140000
DTSTAMP:20260422T020135
CREATED:20231113T142821Z
LAST-MODIFIED:20231113T142821Z
UID:20852-1700389800-1700402400@nyiregyhazisc.hu
SUMMARY:Gyermek kosárlabda kupa - Debrecen
DESCRIPTION:Mérkőzések: \n10. 30 Cívis KK Macskatigrisek – Nyíregyházi Sportcentrum/A \n12.00 Nyíregyházi Sportcentrum/A – Cívis KK Debrecen \n
URL:https://nyiregyhazisc.hu/esemeny/gyermek-kosarlabda-kupa-debrecen-2/
CATEGORIES:Sportesemény
END:VEVENT
END:VCALENDAR