
      
      
      
BEGIN:VCALENDAR
VERSION:2.0
PRODID:-//Nyíregyházi Sportcentrum - ECPv4.9.1.1//NONSGML v1.0//EN
CALSCALE:GREGORIAN
METHOD:PUBLISH
X-WR-CALNAME:Nyíregyházi Sportcentrum
X-ORIGINAL-URL:https://nyiregyhazisc.hu
X-WR-CALDESC:Events for Nyíregyházi Sportcentrum
BEGIN:VEVENT
DTSTART;TZID=UTC+1:20231007T090000
DTEND;TZID=UTC+1:20231007T103000
DTSTAMP:20260422T053122
CREATED:20230907T073012Z
LAST-MODIFIED:20230907T073116Z
UID:20029-1696669200-1696674600@nyiregyhazisc.hu
SUMMARY:Görkori tanfolyam a Városi Jégpályán
DESCRIPTION: \n
URL:https://nyiregyhazisc.hu/esemeny/gorkori-tanfolyam-a-varosi-jegpalyan-5/
CATEGORIES:Sportesemény
ATTACH;FMTTYPE=image/jpeg:https://nyiregyhazisc.hu/wp-content/uploads/2023/09/Görkori-tanfolyam-1.jpg
END:VEVENT
END:VCALENDAR