
      
      
      
BEGIN:VCALENDAR
VERSION:2.0
PRODID:-//Nyíregyházi Sportcentrum - ECPv4.9.1.1//NONSGML v1.0//EN
CALSCALE:GREGORIAN
METHOD:PUBLISH
X-WR-CALNAME:Nyíregyházi Sportcentrum
X-ORIGINAL-URL:https://nyiregyhazisc.hu
X-WR-CALDESC:Events for Nyíregyházi Sportcentrum
BEGIN:VEVENT
DTSTART;TZID=UTC+1:20211014T190000
DTEND;TZID=UTC+1:20211014T210000
DTSTAMP:20260423T210219
CREATED:20211014T132240Z
LAST-MODIFIED:20211014T132240Z
UID:13490-1634238000-1634245200@nyiregyhazisc.hu
SUMMARY:Fiú Serdülő II. osztály kézilabda mérkőzés
DESCRIPTION:Fiú Serdülő II. osztály kézilabda bajnoki mérkőzés \nMórahalom \n2021.10.14. 19.00 óra \nTisza Volán SC – Nyíregyházi Sportcentrum \n
URL:https://nyiregyhazisc.hu/esemeny/fiu-serdulo-ii-osztaly-kezilabda-merkozes/
END:VEVENT
END:VCALENDAR