
      
      
      
BEGIN:VCALENDAR
VERSION:2.0
PRODID:-//Nyíregyházi Sportcentrum - ECPv4.9.1.1//NONSGML v1.0//EN
CALSCALE:GREGORIAN
METHOD:PUBLISH
X-WR-CALNAME:Nyíregyházi Sportcentrum
X-ORIGINAL-URL:https://nyiregyhazisc.hu
X-WR-CALDESC:Events for Nyíregyházi Sportcentrum
BEGIN:VEVENT
DTSTART;VALUE=DATE:20230728
DTEND;VALUE=DATE:20230809
DTSTAMP:20260422T070010
CREATED:20230721T085409Z
LAST-MODIFIED:20230721T085409Z
UID:19818-1690502400-1691539199@nyiregyhazisc.hu
SUMMARY:FISU Nyári Egyetemi Világjátékok - Kína\, Csengtu
DESCRIPTION:
URL:https://nyiregyhazisc.hu/esemeny/fisu-nyari-egyetemi-vilagjatekok-kina-csengtu/
CATEGORIES:Sportesemény
END:VEVENT
END:VCALENDAR