
      
      
      
BEGIN:VCALENDAR
VERSION:2.0
PRODID:-//Nyíregyházi Sportcentrum - ECPv4.9.1.1//NONSGML v1.0//EN
CALSCALE:GREGORIAN
METHOD:PUBLISH
X-WR-CALNAME:Nyíregyházi Sportcentrum
X-ORIGINAL-URL:https://nyiregyhazisc.hu
X-WR-CALDESC:Events for Nyíregyházi Sportcentrum
BEGIN:VEVENT
DTSTART;VALUE=DATE:20220423
DTEND;VALUE=DATE:20220424
DTSTAMP:20260423T092959
CREATED:20220406T111703Z
LAST-MODIFIED:20220406T111703Z
UID:15056-1650672000-1650758399@nyiregyhazisc.hu
SUMMARY:Felnőtt és U23 35 m-es Gyalogló Magyar Bajnokság
DESCRIPTION:Felnőtt és U23 35 m-es Gyalogló Magyar Bajnokság \nHelyszín: Dudince \n
URL:https://nyiregyhazisc.hu/esemeny/felnott-es-u23-35-m-es-gyaloglo-magyar-bajnoksag/
CATEGORIES:Sportesemény
END:VEVENT
END:VCALENDAR