
      
      
      
BEGIN:VCALENDAR
VERSION:2.0
PRODID:-//Nyíregyházi Sportcentrum - ECPv4.9.1.1//NONSGML v1.0//EN
CALSCALE:GREGORIAN
METHOD:PUBLISH
X-WR-CALNAME:Nyíregyházi Sportcentrum
X-ORIGINAL-URL:https://nyiregyhazisc.hu
X-WR-CALDESC:Events for Nyíregyházi Sportcentrum
BEGIN:VEVENT
DTSTART;VALUE=DATE:20250406
DTEND;VALUE=DATE:20250407
DTSTAMP:20260421T141715
CREATED:20250319T143511Z
LAST-MODIFIED:20250319T143511Z
UID:27235-1743897600-1743983999@nyiregyhazisc.hu
SUMMARY:Felnőtt és U23 20 km-es illetve Fiatalkorúak Országos Gyalogló Bajnoksága 2025 - Békéscsaba
DESCRIPTION:
URL:https://nyiregyhazisc.hu/esemeny/felnott-es-u23-20-km-es-illetve-fiatalkoruak-orszagos-gyaloglo-bajnoksaga-2025-bekescsaba/
CATEGORIES:Sportesemény
END:VEVENT
END:VCALENDAR