
      
      
      
BEGIN:VCALENDAR
VERSION:2.0
PRODID:-//Nyíregyházi Sportcentrum - ECPv4.9.1.1//NONSGML v1.0//EN
CALSCALE:GREGORIAN
METHOD:PUBLISH
X-WR-CALNAME:Nyíregyházi Sportcentrum
X-ORIGINAL-URL:https://nyiregyhazisc.hu
X-WR-CALDESC:Events for Nyíregyházi Sportcentrum
BEGIN:VEVENT
DTSTART;TZID=UTC+1:20220305T080000
DTEND;TZID=UTC+1:20220305T190000
DTSTAMP:20260423T105924
CREATED:20220209T122546Z
LAST-MODIFIED:20220209T122546Z
UID:14444-1646467200-1646506800@nyiregyhazisc.hu
SUMMARY:Felnőtt és U16 Téli Dobó Magyar Bajnokság 2022
DESCRIPTION:Felnőtt és U16 Téli Dobó Magyar Bajnokság 2022 \nHelyszín: Szombathely \nIdőpont: 2022.március 5. \n
URL:https://nyiregyhazisc.hu/esemeny/felnott-es-u16-teli-dobo-magyar-bajnoksag-2022/
CATEGORIES:Sportesemény
END:VEVENT
END:VCALENDAR