
      
      
      
BEGIN:VCALENDAR
VERSION:2.0
PRODID:-//Nyíregyházi Sportcentrum - ECPv4.9.1.1//NONSGML v1.0//EN
CALSCALE:GREGORIAN
METHOD:PUBLISH
X-WR-CALNAME:Nyíregyházi Sportcentrum
X-ORIGINAL-URL:https://nyiregyhazisc.hu
X-WR-CALDESC:Events for Nyíregyházi Sportcentrum
BEGIN:VEVENT
DTSTART;VALUE=DATE:20220212
DTEND;VALUE=DATE:20220214
DTSTAMP:20260423T112014
CREATED:20220127T103753Z
LAST-MODIFIED:20220127T103753Z
UID:14248-1644624000-1644796799@nyiregyhazisc.hu
SUMMARY:Fedettpályás U20 és U18 Atlétikai Magyar Bajnokság 2022
DESCRIPTION:Fedettpályás U20 és U18 Atlétikai Magyar Bajnokság  2022 \nHelyszín: Nyíregyháza\, Atlétikai Centrum \nIdőpont: 2022.02.12-13. \n
URL:https://nyiregyhazisc.hu/esemeny/fedettpalyas-u20-es-u18-atletikai-magyar-bajnoksag-2022/
CATEGORIES:Sportesemény
END:VEVENT
END:VCALENDAR