
      
      
      
BEGIN:VCALENDAR
VERSION:2.0
PRODID:-//Nyíregyházi Sportcentrum - ECPv4.9.1.1//NONSGML v1.0//EN
CALSCALE:GREGORIAN
METHOD:PUBLISH
X-WR-CALNAME:Nyíregyházi Sportcentrum
X-ORIGINAL-URL:https://nyiregyhazisc.hu
X-WR-CALDESC:Events for Nyíregyházi Sportcentrum
BEGIN:VEVENT
DTSTART;TZID=UTC+1:20230311T080000
DTEND;TZID=UTC+1:20230312T170000
DTSTAMP:20260422T144609
CREATED:20230307T131728Z
LAST-MODIFIED:20230307T131728Z
UID:18492-1678521600-1678640400@nyiregyhazisc.hu
SUMMARY:Fedettpályás U16 és U14 Összetett Atlétikai Magyar Bajnokság 2023 Budapest
DESCRIPTION:
URL:https://nyiregyhazisc.hu/esemeny/fedettpalyas-u16-es-u14-osszetett-atletikai-magyar-bajnoksag-2023-budapest/
CATEGORIES:Sportesemény
END:VEVENT
END:VCALENDAR