
      
      
      
BEGIN:VCALENDAR
VERSION:2.0
PRODID:-//Nyíregyházi Sportcentrum - ECPv4.9.1.1//NONSGML v1.0//EN
CALSCALE:GREGORIAN
METHOD:PUBLISH
X-WR-CALNAME:Nyíregyházi Sportcentrum
X-ORIGINAL-URL:https://nyiregyhazisc.hu
X-WR-CALDESC:Events for Nyíregyházi Sportcentrum
BEGIN:VEVENT
DTSTART;VALUE=DATE:20220226
DTEND;VALUE=DATE:20220228
DTSTAMP:20260423T111519
CREATED:20220127T103947Z
LAST-MODIFIED:20220127T103947Z
UID:14250-1645833600-1646006399@nyiregyhazisc.hu
SUMMARY:Fedettpályás Atlétikai Magyar Bajnokság 2022.
DESCRIPTION:Fedettpályás Atlétikai Magyar Bajnokság 2022 \nHelyszín: Nyíregyháza\, Atlétikai Centrum \nIdőpont: 2022.02.26-27. \n
URL:https://nyiregyhazisc.hu/esemeny/fedettpalyas-atletikai-magyar-bajnoksag-2022/
CATEGORIES:Sportesemény
END:VEVENT
END:VCALENDAR