
      
      
      
BEGIN:VCALENDAR
VERSION:2.0
PRODID:-//Nyíregyházi Sportcentrum - ECPv4.9.1.1//NONSGML v1.0//EN
CALSCALE:GREGORIAN
METHOD:PUBLISH
X-WR-CALNAME:Nyíregyházi Sportcentrum
X-ORIGINAL-URL:https://nyiregyhazisc.hu
X-WR-CALDESC:Events for Nyíregyházi Sportcentrum
BEGIN:VEVENT
DTSTART;TZID=UTC+1:20200925T173000
DTEND;TZID=UTC+1:20200925T183000
DTSTAMP:20260423T234851
CREATED:20200924T070638Z
LAST-MODIFIED:20200924T070821Z
UID:10538-1601055000-1601058600@nyiregyhazisc.hu
SUMMARY:Fatum Szurkolói Ankét
DESCRIPTION:Indul a Bajnoki Szezon! \n2020. szeptember 25-én (péntek) 17.30 órától szurkolói ankétot tart a Fatum-Nyíregyháza Extra ligás női röplabda csapata\, amelyre minden kedves szurkolót szeretettel várunk! \nA téma:\n– Új csapat\, új célok\n– Bajnokság\, MK\, CEV kupa szereplés\,\n– Bérletárusítás\nHelyszín: Nyíregyháza\, Continental Aréna\, Főbejárat aula. \nCOVID protokoll: A sportcsarnokba a belépés kizárólag a Géza utcai főbejáraton lehetséges. A szurkolói ankétra csak azon személyek engedhetők be\, akik egészségesek és belépéskor átestek testhőmérséklet-mérésen. 37\,3 C fok fölötti testhőmérséklettel TILOS a belépés! Betegek\, tünettel rendelkező személyek nem léphetnek be.\nKevesebb jelenjen meg \n
URL:https://nyiregyhazisc.hu/esemeny/fatum-szurkoloi-anket/
ATTACH;FMTTYPE=image/jpeg:https://nyiregyhazisc.hu/wp-content/uploads/2020/09/szurkolói-ankét-fotóű.jpg
END:VEVENT
END:VCALENDAR