
      
      
      
BEGIN:VCALENDAR
VERSION:2.0
PRODID:-//Nyíregyházi Sportcentrum - ECPv4.9.1.1//NONSGML v1.0//EN
CALSCALE:GREGORIAN
METHOD:PUBLISH
X-WR-CALNAME:Nyíregyházi Sportcentrum
X-ORIGINAL-URL:https://nyiregyhazisc.hu
X-WR-CALDESC:Events for Nyíregyházi Sportcentrum
BEGIN:VEVENT
DTSTART;VALUE=DATE:20230922
DTEND;VALUE=DATE:20230924
DTSTAMP:20260422T070802
CREATED:20230918T103718Z
LAST-MODIFIED:20230918T103718Z
UID:20265-1695340800-1695513599@nyiregyhazisc.hu
SUMMARY:Fatum Property Kupa Nemzetközi Női Felkészülési Röplabda Torna 2023 - Continental Aréna
DESCRIPTION: \n
URL:https://nyiregyhazisc.hu/esemeny/fatum-property-kupa-nemzetkozi-noi-felkeszulesi-roplabda-torna-2023-continental-arena/
ATTACH;FMTTYPE=image/jpeg:https://nyiregyhazisc.hu/wp-content/uploads/2023/09/fatum-kupa-2023.jpg
END:VEVENT
END:VCALENDAR