
      
      
      
BEGIN:VCALENDAR
VERSION:2.0
PRODID:-//Nyíregyházi Sportcentrum - ECPv4.9.1.1//NONSGML v1.0//EN
CALSCALE:GREGORIAN
METHOD:PUBLISH
X-WR-CALNAME:Nyíregyházi Sportcentrum
X-ORIGINAL-URL:https://nyiregyhazisc.hu
X-WR-CALDESC:Events for Nyíregyházi Sportcentrum
BEGIN:VEVENT
DTSTART;TZID=UTC+1:20231111T190000
DTEND;TZID=UTC+1:20231111T210000
DTSTAMP:20260422T021707
CREATED:20231107T091649Z
LAST-MODIFIED:20231107T091649Z
UID:20781-1699729200-1699736400@nyiregyhazisc.hu
SUMMARY:Fatum Nyíregyháza - UTE női extraliga bajnoki mérkőzés - Continental Aréna
DESCRIPTION:
URL:https://nyiregyhazisc.hu/esemeny/fatum-nyiregyhaza-ute-noi-extraliga-bajnoki-merkozes-continental-arena/
CATEGORIES:Sportesemény
END:VEVENT
END:VCALENDAR