
      
      
      
BEGIN:VCALENDAR
VERSION:2.0
PRODID:-//Nyíregyházi Sportcentrum - ECPv4.9.1.1//NONSGML v1.0//EN
CALSCALE:GREGORIAN
METHOD:PUBLISH
X-WR-CALNAME:Nyíregyházi Sportcentrum
X-ORIGINAL-URL:https://nyiregyhazisc.hu
X-WR-CALDESC:Events for Nyíregyházi Sportcentrum
BEGIN:VEVENT
DTSTART;TZID=UTC+1:20220924T123000
DTEND;TZID=UTC+1:20220924T140000
DTSTAMP:20260423T010313
CREATED:20220916T091350Z
LAST-MODIFIED:20220916T091623Z
UID:16326-1664022600-1664028000@nyiregyhazisc.hu
SUMMARY:Fatum-Nyíregyháza U20 - SZBRA Piros Női röplabda bajnoki mérkőzés I. osztály - Budapest
DESCRIPTION:
URL:https://nyiregyhazisc.hu/esemeny/fatum-nyiregyhaza-u20-szbra-piros-noi-roplabda-bajnoki-merkozes-i-osztaly/
CATEGORIES:Sportesemény
END:VEVENT
END:VCALENDAR