
      
      
      
BEGIN:VCALENDAR
VERSION:2.0
PRODID:-//Nyíregyházi Sportcentrum - ECPv4.9.1.1//NONSGML v1.0//EN
CALSCALE:GREGORIAN
METHOD:PUBLISH
X-WR-CALNAME:Nyíregyházi Sportcentrum
X-ORIGINAL-URL:https://nyiregyhazisc.hu
X-WR-CALDESC:Events for Nyíregyházi Sportcentrum
BEGIN:VEVENT
DTSTART;TZID=UTC+1:20210207T180000
DTEND;TZID=UTC+1:20210207T200000
DTSTAMP:20260423T210451
CREATED:20210114T080759Z
LAST-MODIFIED:20210114T081317Z
UID:11101-1612720800-1612728000@nyiregyhazisc.hu
SUMMARY:Fatum-Nyíregyháza - DVTK női röplabda bajnoki mérkőzés
DESCRIPTION:
URL:https://nyiregyhazisc.hu/esemeny/fatum-nyiregyhaza-dvtk-noi-roplabda-bajnoki-merkozes/
ATTACH;FMTTYPE=image/png:https://nyiregyhazisc.hu/wp-content/uploads/2021/01/fatum-nyíregyháza-logó.png
END:VEVENT
END:VCALENDAR