
      
      
      
BEGIN:VCALENDAR
VERSION:2.0
PRODID:-//Nyíregyházi Sportcentrum - ECPv4.9.1.1//NONSGML v1.0//EN
CALSCALE:GREGORIAN
METHOD:PUBLISH
X-WR-CALNAME:Nyíregyházi Sportcentrum
X-ORIGINAL-URL:https://nyiregyhazisc.hu
X-WR-CALDESC:Events for Nyíregyházi Sportcentrum
BEGIN:VEVENT
DTSTART;VALUE=DATE:20211204
DTEND;VALUE=DATE:20211206
DTSTAMP:20260423T144309
CREATED:20211105T135258Z
LAST-MODIFIED:20211105T135258Z
UID:13597-1638576000-1638748799@nyiregyhazisc.hu
SUMMARY:Fáraó Bútor Eger 40+ Öregfiúk Labdarúgó Torna
DESCRIPTION: \n
URL:https://nyiregyhazisc.hu/esemeny/farao-butor-eger-40-oregfiuk-labdarugo-torna/
ATTACH;FMTTYPE=image/jpeg:https://nyiregyhazisc.hu/wp-content/uploads/2021/11/246146463_2684861338488725_8107080386479785490_n-1.jpg
END:VEVENT
END:VCALENDAR