
      
      
      
BEGIN:VCALENDAR
VERSION:2.0
PRODID:-//Nyíregyházi Sportcentrum - ECPv4.9.1.1//NONSGML v1.0//EN
CALSCALE:GREGORIAN
METHOD:PUBLISH
X-WR-CALNAME:Nyíregyházi Sportcentrum
X-ORIGINAL-URL:https://nyiregyhazisc.hu
X-WR-CALDESC:Events for Nyíregyházi Sportcentrum
BEGIN:VEVENT
DTSTART;TZID=UTC+1:20231009T080000
DTEND;TZID=UTC+1:20231009T090000
DTSTAMP:20260422T040302
CREATED:20231004T133632Z
LAST-MODIFIED:20231004T133632Z
UID:20513-1696838400-1696842000@nyiregyhazisc.hu
SUMMARY:Esésmegelőzés mozgásprogram - Mozdulj Nyíregyháza! - Continental Aréna
DESCRIPTION:
URL:https://nyiregyhazisc.hu/esemeny/esesmegelozes-mozgasprogram-mozdulj-nyiregyhaza-continental-arena/
CATEGORIES:Sportesemény
END:VEVENT
END:VCALENDAR