
      
      
      
BEGIN:VCALENDAR
VERSION:2.0
PRODID:-//Nyíregyházi Sportcentrum - ECPv4.9.1.1//NONSGML v1.0//EN
CALSCALE:GREGORIAN
METHOD:PUBLISH
X-WR-CALNAME:Nyíregyházi Sportcentrum
X-ORIGINAL-URL:https://nyiregyhazisc.hu
X-WR-CALDESC:Events for Nyíregyházi Sportcentrum
BEGIN:VEVENT
DTSTART;VALUE=DATE:20231022
DTEND;VALUE=DATE:20231024
DTSTAMP:20260422T051904
CREATED:20230918T134610Z
LAST-MODIFIED:20230918T134610Z
UID:20285-1697932800-1698105599@nyiregyhazisc.hu
SUMMARY:Éjszakai B. és Egyesületi Váltó Bajnokság - tájfutó verseny - Napkor
DESCRIPTION:
URL:https://nyiregyhazisc.hu/esemeny/ejszakai-b-es-egyesuleti-valto-bajnoksag-tajfuto-verseny-napkor/
CATEGORIES:Sportesemény
END:VEVENT
END:VCALENDAR