
      
      
      
BEGIN:VCALENDAR
VERSION:2.0
PRODID:-//Nyíregyházi Sportcentrum - ECPv4.9.1.1//NONSGML v1.0//EN
CALSCALE:GREGORIAN
METHOD:PUBLISH
X-WR-CALNAME:Nyíregyházi Sportcentrum
X-ORIGINAL-URL:https://nyiregyhazisc.hu
X-WR-CALDESC:Events for Nyíregyházi Sportcentrum
BEGIN:VEVENT
DTSTART;TZID=UTC+1:20230620T080000
DTEND;TZID=UTC+1:20230622T170000
DTSTAMP:20260422T094853
CREATED:20230616T132136Z
LAST-MODIFIED:20230616T132136Z
UID:19589-1687248000-1687453200@nyiregyhazisc.hu
SUMMARY:EA Csapat Európa-bajnokság - 2.Divízió Krakkó Lengyelország
DESCRIPTION:
URL:https://nyiregyhazisc.hu/esemeny/ea-csapat-europa-bajnoksag-2-divizio-krakko-lengyelorszag/
CATEGORIES:Sportesemény
END:VEVENT
END:VCALENDAR