
      
      
      
BEGIN:VCALENDAR
VERSION:2.0
PRODID:-//Nyíregyházi Sportcentrum - ECPv4.9.1.1//NONSGML v1.0//EN
CALSCALE:GREGORIAN
METHOD:PUBLISH
X-WR-CALNAME:Nyíregyházi Sportcentrum
X-ORIGINAL-URL:https://nyiregyhazisc.hu
X-WR-CALDESC:Events for Nyíregyházi Sportcentrum
BEGIN:VEVENT
DTSTART;TZID=UTC+1:20230401T130000
DTEND;TZID=UTC+1:20230401T170000
DTSTAMP:20260422T130151
CREATED:20230331T105646Z
LAST-MODIFIED:20230331T105646Z
UID:18592-1680354000-1680368400@nyiregyhazisc.hu
SUMMARY:DVTK I.  - Nyíregyházi Sportcentrum U18 kézilabda fiú mérkőzés  - Miskolc
DESCRIPTION:
URL:https://nyiregyhazisc.hu/esemeny/dvtk-i-nyiregyhazi-sportcentrum-u18-kezilabda-fiu-merkozes-miskolc/
CATEGORIES:Sportesemény
END:VEVENT
END:VCALENDAR