
      
      
      
BEGIN:VCALENDAR
VERSION:2.0
PRODID:-//Nyíregyházi Sportcentrum - ECPv4.9.1.1//NONSGML v1.0//EN
CALSCALE:GREGORIAN
METHOD:PUBLISH
X-WR-CALNAME:Nyíregyházi Sportcentrum
X-ORIGINAL-URL:https://nyiregyhazisc.hu
X-WR-CALDESC:Events for Nyíregyházi Sportcentrum
BEGIN:VEVENT
DTSTART;TZID=UTC+1:20231005T160000
DTEND;TZID=UTC+1:20231005T180000
DTSTAMP:20260422T065409
CREATED:20231003T114859Z
LAST-MODIFIED:20231003T114859Z
UID:20482-1696521600-1696528800@nyiregyhazisc.hu
SUMMARY:DVSC Scheffler II. - Nyíregyházi Sportcentrum U19 leány kézilabda bajnoki mérkőzés - Debrecen
DESCRIPTION:
URL:https://nyiregyhazisc.hu/esemeny/dvsc-scheffler-ii-nyiregyhazi-sportcentrum-u19-leany-kezilabda-bajnoki-merkozes-debrecen/
CATEGORIES:Sportesemény
END:VEVENT
END:VCALENDAR