
      
      
      
BEGIN:VCALENDAR
VERSION:2.0
PRODID:-//Nyíregyházi Sportcentrum - ECPv4.9.1.1//NONSGML v1.0//EN
CALSCALE:GREGORIAN
METHOD:PUBLISH
X-WR-CALNAME:Nyíregyházi Sportcentrum
X-ORIGINAL-URL:https://nyiregyhazisc.hu
X-WR-CALDESC:Events for Nyíregyházi Sportcentrum
BEGIN:VEVENT
DTSTART;TZID=UTC+1:20221119T100000
DTEND;TZID=UTC+1:20221119T150000
DTSTAMP:20260422T202257
CREATED:20221118T131136Z
LAST-MODIFIED:20221118T131136Z
UID:16874-1668852000-1668870000@nyiregyhazisc.hu
SUMMARY:dr. Kotsis Attiláné U15 Országos Röplabda Bajnokság  IV. Dél-Kelet
DESCRIPTION:Helyszín: Nyíregyháza \n10.00 Nyíregyházi Sportcentrum Fehér – SUSI \n13.00 Hajdúböszörményi TE – Nyíregyházi Sportcentrum Fehér \n  \n
URL:https://nyiregyhazisc.hu/esemeny/dr-kotsis-attilane-u15-orszagos-roplabda-bajnoksag-iv-del-kelet/
CATEGORIES:Sportesemény
END:VEVENT
END:VCALENDAR