
      
      
      
BEGIN:VCALENDAR
VERSION:2.0
PRODID:-//Nyíregyházi Sportcentrum - ECPv4.9.1.1//NONSGML v1.0//EN
CALSCALE:GREGORIAN
METHOD:PUBLISH
X-WR-CALNAME:Nyíregyházi Sportcentrum
X-ORIGINAL-URL:https://nyiregyhazisc.hu
X-WR-CALDESC:Events for Nyíregyházi Sportcentrum
BEGIN:VEVENT
DTSTART;TZID=UTC+1:20230507T110000
DTEND;TZID=UTC+1:20230507T170000
DTSTAMP:20260422T095440
CREATED:20230504T094129Z
LAST-MODIFIED:20230504T094129Z
UID:19073-1683457200-1683478800@nyiregyhazisc.hu
SUMMARY:dr. Kotsis Attiláné U15 Országos Röplabda Bajnokság III.o. Kelet-B Középszakasz - Nyíregyháza
DESCRIPTION:Mérkőzések: \n11.00 óra Nyíregyházi Sportcentrum Piros – KSE U15 \n15.00 UTE U15 Fehér – Nyíregyházi Sportcentrum Piros \n
URL:https://nyiregyhazisc.hu/esemeny/dr-kotsis-attilane-u15-orszagos-roplabda-bajnoksag-iii-o-kelet-b-kozepszakasz-nyiregyhaza/
CATEGORIES:Sportesemény
END:VEVENT
END:VCALENDAR