
      
      
      
BEGIN:VCALENDAR
VERSION:2.0
PRODID:-//Nyíregyházi Sportcentrum - ECPv4.9.1.1//NONSGML v1.0//EN
CALSCALE:GREGORIAN
METHOD:PUBLISH
X-WR-CALNAME:Nyíregyházi Sportcentrum
X-ORIGINAL-URL:https://nyiregyhazisc.hu
X-WR-CALDESC:Events for Nyíregyházi Sportcentrum
BEGIN:VEVENT
DTSTART;TZID=UTC+1:20230506T090000
DTEND;TZID=UTC+1:20230506T110000
DTSTAMP:20260422T112614
CREATED:20230504T092857Z
LAST-MODIFIED:20230504T092857Z
UID:19067-1683363600-1683370800@nyiregyhazisc.hu
SUMMARY:dr. Kotsis Attiláné U15 Országos Röplabda Bajnokság/ Dél-Kelet helyosztó 1-4. hely Nyíregyháza
DESCRIPTION:Mérkőzések: \n9.00 Nyíregyházi Sportcentrum -Kék – SUSI \n  \n
URL:https://nyiregyhazisc.hu/esemeny/dr-kotsis-attilane-u15-orszagos-roplabda-bajnoksag-del-kelet-helyoszto-1-4-hely-nyiregyhaza/
CATEGORIES:Sportesemény
END:VEVENT
END:VCALENDAR