
      
      
      
BEGIN:VCALENDAR
VERSION:2.0
PRODID:-//Nyíregyházi Sportcentrum - ECPv4.9.1.1//NONSGML v1.0//EN
CALSCALE:GREGORIAN
METHOD:PUBLISH
X-WR-CALNAME:Nyíregyházi Sportcentrum
X-ORIGINAL-URL:https://nyiregyhazisc.hu
X-WR-CALDESC:Events for Nyíregyházi Sportcentrum
BEGIN:VEVENT
DTSTART;TZID=UTC+1:20211106T110000
DTEND;TZID=UTC+1:20211106T110000
DTSTAMP:20260423T175452
CREATED:20211105T140002Z
LAST-MODIFIED:20211105T140002Z
UID:13607-1636196400-1636196400@nyiregyhazisc.hu
SUMMARY:Dr.Kotsis Attiláné U15 OGYB röplabda leány röplabda mérkőzés
DESCRIPTION:Dr.Kotsis Attiláné U15 OGYB röplabda leány röplabda mérkőzés \n11.00 óra Nyíregyházi Sportcentrum – JRK \n14.00 óra Nyíregyházi Sportcentrum – Vasas Piros \n
URL:https://nyiregyhazisc.hu/esemeny/dr-kotsis-attilane-u15-ogyb-roplabda-leany-roplabda-merkozes/
END:VEVENT
END:VCALENDAR