
      
      
      
BEGIN:VCALENDAR
VERSION:2.0
PRODID:-//Nyíregyházi Sportcentrum - ECPv4.9.1.1//NONSGML v1.0//EN
CALSCALE:GREGORIAN
METHOD:PUBLISH
X-WR-CALNAME:Nyíregyházi Sportcentrum
X-ORIGINAL-URL:https://nyiregyhazisc.hu
X-WR-CALDESC:Events for Nyíregyházi Sportcentrum
BEGIN:VEVENT
DTSTART;TZID=UTC+1:20220924T100000
DTEND;TZID=UTC+1:20220924T140000
DTSTAMP:20260422T234342
CREATED:20220916T094016Z
LAST-MODIFIED:20220916T094016Z
UID:16331-1664013600-1664028000@nyiregyhazisc.hu
SUMMARY:dr. Kotsis Attiláné U15 OGYB IV.osztály lány röplabda bajnoki mérkőzés  - Hajdúböszörmény
DESCRIPTION:Mérkőzések: \n10.00 Hajdúböszörményi TE – Nyíregyházi Sportcentrum Kék \n11.30 Nyíregyházi Sportcentrum Kék – Eötvös DSE ‘B’ \n
URL:https://nyiregyhazisc.hu/esemeny/dr-kotsis-attilane-u15-ogyb-iv-osztaly-lany-roplabda-bajnoki-merkozes-hajduboszormeny/
CATEGORIES:Sportesemény
END:VEVENT
END:VCALENDAR